BEGIN:VCALENDAR
VERSION:2.0
PRODID:-//The Business Council of Alabama - ECPv6.3.5//NONSGML v1.0//EN
CALSCALE:GREGORIAN
METHOD:PUBLISH
X-WR-CALNAME:The Business Council of Alabama
X-ORIGINAL-URL:https://www.bcatoday.org
X-WR-CALDESC:Events for The Business Council of Alabama
REFRESH-INTERVAL;VALUE=DURATION:PT1H
X-Robots-Tag:noindex
X-PUBLISHED-TTL:PT1H
BEGIN:VTIMEZONE
TZID:America/Chicago
BEGIN:DAYLIGHT
TZOFFSETFROM:-0600
TZOFFSETTO:-0500
TZNAME:CDT
DTSTART:20260308T080000
END:DAYLIGHT
BEGIN:STANDARD
TZOFFSETFROM:-0500
TZOFFSETTO:-0600
TZNAME:CST
DTSTART:20261101T070000
END:STANDARD
END:VTIMEZONE
BEGIN:VEVENT
DTSTART;VALUE=DATE:20261001
DTEND;VALUE=DATE:20261002
DTSTAMP:20260421T125731
CREATED:20251211T212045Z
LAST-MODIFIED:20251211T212045Z
UID:18229-1790812800-1790899199@www.bcatoday.org
SUMMARY:Manufacturer of the Year Awards
DESCRIPTION:Since its inception over 25 years ago\, the Alabama Manufacturer of the Year Awards program has continued to recognize the state’s top manufacturers – honoring those who excel in leadership\, performance\, profitability\, and workforce relations. Winners are selected by an independent panel of judges based on demonstration of superior performance in customer focus\, employee commitment\, operating excellence\, continuous improvement\, profitable growth\, and investment in training and retraining. Support for this program is crucial in celebrating the hard work and dedication of each employee and promoting the many exemplary accomplishments of Alabama’s best and brightest industry leaders.
URL:https://www.bcatoday.org/event/manufacturer-of-the-year-awards-2/
LOCATION:Montgomery Country Club\, 3001 Narrow Lane Rd\, Montgomery\, AL\, 36106
CATEGORIES:In-Person,Signature
END:VEVENT
END:VCALENDAR