BEGIN:VCALENDAR
VERSION:2.0
PRODID:-//The Business Council of Alabama - ECPv6.3.5//NONSGML v1.0//EN
CALSCALE:GREGORIAN
METHOD:PUBLISH
X-ORIGINAL-URL:https://www.bcatoday.org
X-WR-CALDESC:Events for The Business Council of Alabama
REFRESH-INTERVAL;VALUE=DURATION:PT1H
X-Robots-Tag:noindex
X-PUBLISHED-TTL:PT1H
BEGIN:VTIMEZONE
TZID:America/Chicago
BEGIN:DAYLIGHT
TZOFFSETFROM:-0600
TZOFFSETTO:-0500
TZNAME:CDT
DTSTART:20250309T080000
END:DAYLIGHT
BEGIN:STANDARD
TZOFFSETFROM:-0500
TZOFFSETTO:-0600
TZNAME:CST
DTSTART:20251102T070000
END:STANDARD
END:VTIMEZONE
BEGIN:VEVENT
DTSTART;VALUE=DATE:20251118
DTEND;VALUE=DATE:20251119
DTSTAMP:20260421T163152
CREATED:20231114T200919Z
LAST-MODIFIED:20250828T154931Z
UID:15542-1763424000-1763510399@www.bcatoday.org
SUMMARY:2025 Small Business Awards
DESCRIPTION:The 2025 Alabama Small Business Awards and Annual Meeting will be held on November 18\, 2025. \nOur Small Business Awards and Annual Meeting celebrate the backbone of communities across Alabama and brings our BCA leaders together to discuss and vote on our policy for the next year’s legislative session. Support for this event enables BCA to recognize Alabama’s top small businesses while establishing our organizational leadership and codifying our policy agenda for the coming year. \nMore information to come.
URL:https://www.bcatoday.org/event/2025-small-business-awards/
LOCATION:The Club\, 1 Robert S Smith Dr\, Birmingham\, 35209\, United States
CATEGORIES:In-Person
ATTACH;FMTTYPE=image/png:https://www.bcatoday.org/wp-content/uploads/3-10.png
END:VEVENT
END:VCALENDAR