BEGIN:VCALENDAR
VERSION:2.0
PRODID:-//The Business Council of Alabama - ECPv6.3.5//NONSGML v1.0//EN
CALSCALE:GREGORIAN
METHOD:PUBLISH
X-WR-CALNAME:The Business Council of Alabama
X-ORIGINAL-URL:https://www.bcatoday.org
X-WR-CALDESC:Events for The Business Council of Alabama
REFRESH-INTERVAL;VALUE=DURATION:PT1H
X-Robots-Tag:noindex
X-PUBLISHED-TTL:PT1H
BEGIN:VTIMEZONE
TZID:America/Chicago
BEGIN:DAYLIGHT
TZOFFSETFROM:-0600
TZOFFSETTO:-0500
TZNAME:CDT
DTSTART:20220313T080000
END:DAYLIGHT
BEGIN:STANDARD
TZOFFSETFROM:-0500
TZOFFSETTO:-0600
TZNAME:CST
DTSTART:20221106T070000
END:STANDARD
END:VTIMEZONE
BEGIN:VEVENT
DTSTART;TZID=America/Chicago:20221003T173000
DTEND;TZID=America/Chicago:20221003T203000
DTSTAMP:20260421T081431
CREATED:20220726T142225Z
LAST-MODIFIED:20220928T161058Z
UID:13837-1664818200-1664829000@www.bcatoday.org
SUMMARY:Evening for Progress
DESCRIPTION:  \n \nThe Business Council of Alabama (BCA) will hold its annual Evening for Progress on Monday\, October 3\, at the Sheraton Hotel in Birmingham. This year’s event will honor U.S. Senator Richard Shelby for his service to Alabama and the nation\, and joining BCA as a special guest to recognize Senator Shelby will be U.S. Senator Mitch McConnell\, the United States Senate Republican Leader. \nThroughout the event\, BCA will highlight Senator Shelby’s historic legacy as Alabama’s longest serving Senator\, celebrating his 44 years of service in the U.S. Senate and House of Representatives. During his career\, he has served as the former chairman and current vice chairman of the Senate Committee on Appropriations; the chairman of the Senate Committee on Rules and Administration; and chairman of the Senate Banking\, Housing and Urban Affairs Committee; and the Senate Select Committee on Intelligence. After an outstanding tenure\, Senator Shelby is leaving office following the current election cycle. \nJoining BCA as a special guest for the evening will be U.S. Senator Mitch McConnell\, the United States Senate Republican Leader. Senator McConnell is the longest-serving Senate Republican Leader in American history having been unanimously elected eight times since 2006. First elected to the Senate in 1984\, McConnell is Kentucky’s longest-serving senator. TIME Magazine has twice named Senator McConnell as one of the 100 Most Influential People in the World. \nProceeds from the event supports ProgressPAC\, the political affiliate of the BCA. See investment levels here. \nContributions to either BCA or ProgressPAC are not deductible as charitable contributions for federal income tax purposes. Contributions for the Evening for Progress are used to support BCA’s political action committee\, Progress PAC\, to the extent allowable by law or the contributor’s policies. This solicitation is intended for members of BCA only and those members may refuse to contribute without reprisal. Contributions by foreign nationals (non-green card holders) as defined by federal law are prohibited and are not being solicited. For questions\, please contact Drew Harrell at dharrell@bcatoday.org.
URL:https://www.bcatoday.org/event/evening-for-progress/
LOCATION:Sheraton Birmingham Hotel\, 2101 Richard Arrington Jr Blvd N\, Birmingham\, AL\, 35203\, United States
CATEGORIES:In-Person,Signature
ATTACH;FMTTYPE=image/jpeg:https://www.bcatoday.org/wp-content/uploads/2021Eveninglogoforweb.jpg
END:VEVENT
BEGIN:VEVENT
DTSTART;TZID=America/Chicago:20221007T110000
DTEND;TZID=America/Chicago:20221007T130000
DTSTAMP:20260421T081431
CREATED:20220103T222718Z
LAST-MODIFIED:20220815T160333Z
UID:12498-1665140400-1665147600@www.bcatoday.org
SUMMARY:2022 Manufacturer of the Year Awards Luncheon
DESCRIPTION:Be Recognized for Your Manufacturing Excellence. \nThe Alabama Technology Network and the Business Council of Alabama are proud to present the 22nd Annual Alabama Manufacturer of the Year Awards that honor the companies bringing uncompromising excellence to Alabama manufacturing. \nClick here for sponsorship opportunities. \nVisit www.alabamamoty.org for more information.
URL:https://www.bcatoday.org/event/2022-manufacturer-of-the-year-awards-luncheon/
LOCATION:RSA Activity Center\, 201 Dexter Ave\, Montgomery\, AL\, 36104\, United States
CATEGORIES:General,In-Person
ATTACH;FMTTYPE=image/jpeg:https://www.bcatoday.org/wp-content/uploads/AMOTYlogo2019.jpg
END:VEVENT
BEGIN:VEVENT
DTSTART;TZID=America/Chicago:20221020T080000
DTEND;TZID=America/Chicago:20221020T133000
DTSTAMP:20260421T081431
CREATED:20221013T221018Z
LAST-MODIFIED:20221013T221615Z
UID:14009-1666252800-1666272600@www.bcatoday.org
SUMMARY:BCA Committee Day
DESCRIPTION:BCA’s Committee Day which will take place on October 20th at the Renaissance Hotel in downtown Montgomery. This event serves as an opportunity for BCA members to come together to discuss major policy issues affecting Alabama businesses and help shape BCA’s legislative playbook for the 2023 legislative session. BCA’s policy process is member-driven and we could not adequately reflect the interests and concerns of Alabama’s business community without the input from our policy committee members. \nCommittee Leadership Day Meeting Schedule: \n\n8:00 – Labor and Employment\n8:30 – Health\n9:00 – Innovation and Entrepreneurship\n9:30 – Education and Workforce Development\n10:00 – Judicial and Legal Reform\n10:30 – Federal Affairs\n11:00 – Environment and Energy\n11:30 – Small Business\n12:00 – Tax and Fiscal Policy\n12:30 – Lunch Presentation: Policy and Politics – (David Cole & Drew Harrell)\n\nRSVP today by emailing rsvp@bcatoday.org.
URL:https://www.bcatoday.org/event/bca-committee-day/
LOCATION:Renaissance Montgomery Hotel & Spa at the Convention Center\, 201 Tallapoosa St\, Montgomery\, 36104
CATEGORIES:In-Person
ATTACH;FMTTYPE=image/jpeg:https://www.bcatoday.org/wp-content/uploads/commday2022.jpg
END:VEVENT
END:VCALENDAR