BEGIN:VCALENDAR
VERSION:2.0
PRODID:-//The Business Council of Alabama - ECPv6.3.5//NONSGML v1.0//EN
CALSCALE:GREGORIAN
METHOD:PUBLISH
X-WR-CALNAME:The Business Council of Alabama
X-ORIGINAL-URL:https://www.bcatoday.org
X-WR-CALDESC:Events for The Business Council of Alabama
REFRESH-INTERVAL;VALUE=DURATION:PT1H
X-Robots-Tag:noindex
X-PUBLISHED-TTL:PT1H
BEGIN:VTIMEZONE
TZID:America/Chicago
BEGIN:DAYLIGHT
TZOFFSETFROM:-0600
TZOFFSETTO:-0500
TZNAME:CDT
DTSTART:20260308T080000
END:DAYLIGHT
BEGIN:STANDARD
TZOFFSETFROM:-0500
TZOFFSETTO:-0600
TZNAME:CST
DTSTART:20261101T070000
END:STANDARD
END:VTIMEZONE
BEGIN:VEVENT
DTSTART;TZID=America/Chicago:20260807T170000
DTEND;TZID=America/Chicago:20260809T110000
DTSTAMP:20260421T112127
CREATED:20251211T211412Z
LAST-MODIFIED:20260223T204731Z
UID:18227-1786122000-1786273200@www.bcatoday.org
SUMMARY:BCA ‘26 Government Affairs Conference
DESCRIPTION:BCA’s Government Affairs Conference is the premier gathering for business and state leaders to network and discuss the issues shaping Alabama’s future. Past conferences have welcomed a distinguished lineup of state and federal leaders\, industry experts\, and respected political voices. This annual event offers a unique opportunity for meaningful conversations in a relaxed setting during an informative weekend at the Grand Hotel in Point Clear.
URL:https://www.bcatoday.org/event/bca-26-government-affairs-conference/
LOCATION:The Grand Hotel Golf Resort & Spa\, One Grand Blvd.\, Point Clear\, AL\, 36564\, United States
CATEGORIES:In-Person,Signature
END:VEVENT
END:VCALENDAR