BEGIN:VCALENDAR
VERSION:2.0
PRODID:-//The Business Council of Alabama - ECPv6.3.5//NONSGML v1.0//EN
CALSCALE:GREGORIAN
METHOD:PUBLISH
X-WR-CALNAME:The Business Council of Alabama
X-ORIGINAL-URL:https://www.bcatoday.org
X-WR-CALDESC:Events for The Business Council of Alabama
REFRESH-INTERVAL;VALUE=DURATION:PT1H
X-Robots-Tag:noindex
X-PUBLISHED-TTL:PT1H
BEGIN:VTIMEZONE
TZID:America/Chicago
BEGIN:DAYLIGHT
TZOFFSETFROM:-0600
TZOFFSETTO:-0500
TZNAME:CDT
DTSTART:20260308T080000
END:DAYLIGHT
BEGIN:STANDARD
TZOFFSETFROM:-0500
TZOFFSETTO:-0600
TZNAME:CST
DTSTART:20261101T070000
END:STANDARD
END:VTIMEZONE
BEGIN:VEVENT
DTSTART;TZID=America/Chicago:20260114T170000
DTEND;TZID=America/Chicago:20260114T190000
DTSTAMP:20260421T144710
CREATED:20251211T205704Z
LAST-MODIFIED:20251211T210008Z
UID:18215-1768410000-1768417200@www.bcatoday.org
SUMMARY:BCA Legislative Reception
DESCRIPTION:BCA’s Legislative Reception allows guests the opportunity to network with local officials\, while kicking off the upcoming legislative session. Support for this event is a crucial part of our advocacy efforts for the legislative session every year. \nThis event is open to all BCA members; an RSVP is required to attend. Please RSVP at bca-rsvp.org/lr26. \nPlease contact Bradshaw Tyson at btyson@bcatoday.org if you have any questions or to request additional information.
URL:https://www.bcatoday.org/event/bca-legislative-reception/
LOCATION:Warehouse at Alley Station\, 130 Commerce St.\, Montgomery\, AL\, 36104\, United States
CATEGORIES:In-Person,Signature
ATTACH;FMTTYPE=image/png:https://www.bcatoday.org/wp-content/uploads/BCA-Legislative-Reception-2026-1.png
END:VEVENT
END:VCALENDAR