BEGIN:VCALENDAR
VERSION:2.0
PRODID:-//The Business Council of Alabama - ECPv6.3.5//NONSGML v1.0//EN
CALSCALE:GREGORIAN
METHOD:PUBLISH
X-ORIGINAL-URL:https://www.bcatoday.org
X-WR-CALDESC:Events for The Business Council of Alabama
REFRESH-INTERVAL;VALUE=DURATION:PT1H
X-Robots-Tag:noindex
X-PUBLISHED-TTL:PT1H
BEGIN:VTIMEZONE
TZID:America/Chicago
BEGIN:DAYLIGHT
TZOFFSETFROM:-0600
TZOFFSETTO:-0500
TZNAME:CDT
DTSTART:20250309T080000
END:DAYLIGHT
BEGIN:STANDARD
TZOFFSETFROM:-0500
TZOFFSETTO:-0600
TZNAME:CST
DTSTART:20251102T070000
END:STANDARD
END:VTIMEZONE
BEGIN:VEVENT
DTSTART;VALUE=DATE:20251015
DTEND;VALUE=DATE:20251016
DTSTAMP:20260421T200155
CREATED:20230502T192334Z
LAST-MODIFIED:20250828T155541Z
UID:14813-1760486400-1760572799@www.bcatoday.org
SUMMARY:The Evening for Progress
DESCRIPTION:The Business Council of Alabama’s 2025 Evening for Progress will feature keynote speaker Kevin O’Leary\, “Mr. Wonderful” from Shark Tank\, who will share his insights on entrepreneurship and leadership in today’s economy. This signature event supports ProgressPAC’s mission of building a strong\, pro-business climate in Alabama while offering sponsors and attendees an opportunity to connect with top business and government leaders from across the state. We hope you will support this key event through one of the sponsorship opportunities available. \nTo reserve your investment\, please contact Caroline Franklin\, executive director of ProgressPAC. \n  \nContributions to either BCA or ProgressPAC are not deductible as charitable contributions for federal income tax purposes. Contributions for the Evening for Progress are used to support BCA’s political action committee\, Progress PAC\, to the extent allowable by law or the contributor’s policies. This solicitation is intended for members of BCA only and those members may refuse to contribute without reprisal. Contributions by foreign nationals (non-green card holders) as defined by federal law are prohibited and are not being solicited. For questions\, please contact Caroline Franklin at cfranklin@bcatoday.org.
URL:https://www.bcatoday.org/event/the-evening-for-progress/
LOCATION:Sheraton Birmingham Hotel\, 2101 Richard Arrington Jr Blvd N\, Birmingham\, AL\, 35203\, United States
CATEGORIES:In-Person,Signature
ATTACH;FMTTYPE=image/png:https://www.bcatoday.org/wp-content/uploads/2-16.png
END:VEVENT
END:VCALENDAR